BEGIN:VCALENDAR
VERSION:2.0
PRODID:-//Village of Clinton - ECPv6.15.20//NONSGML v1.0//EN
CALSCALE:GREGORIAN
METHOD:PUBLISH
X-WR-CALNAME:Village of Clinton
X-ORIGINAL-URL:https://clintonoh.gov
X-WR-CALDESC:Events for Village of Clinton
REFRESH-INTERVAL;VALUE=DURATION:PT1H
X-Robots-Tag:noindex
X-PUBLISHED-TTL:PT1H
BEGIN:VTIMEZONE
TZID:America/New_York
BEGIN:DAYLIGHT
TZOFFSETFROM:-0500
TZOFFSETTO:-0400
TZNAME:EDT
DTSTART:20220313T070000
END:DAYLIGHT
BEGIN:STANDARD
TZOFFSETFROM:-0400
TZOFFSETTO:-0500
TZNAME:EST
DTSTART:20221106T060000
END:STANDARD
BEGIN:DAYLIGHT
TZOFFSETFROM:-0500
TZOFFSETTO:-0400
TZNAME:EDT
DTSTART:20230312T070000
END:DAYLIGHT
BEGIN:STANDARD
TZOFFSETFROM:-0400
TZOFFSETTO:-0500
TZNAME:EST
DTSTART:20231105T060000
END:STANDARD
BEGIN:DAYLIGHT
TZOFFSETFROM:-0500
TZOFFSETTO:-0400
TZNAME:EDT
DTSTART:20240310T070000
END:DAYLIGHT
BEGIN:STANDARD
TZOFFSETFROM:-0400
TZOFFSETTO:-0500
TZNAME:EST
DTSTART:20241103T060000
END:STANDARD
END:VTIMEZONE
BEGIN:VEVENT
DTSTART;TZID=America/New_York:20230801T190000
DTEND;TZID=America/New_York:20230801T190000
DTSTAMP:20260420T011743
CREATED:20230309T022425Z
LAST-MODIFIED:20230309T022425Z
UID:3111-1690916400-1690916400@clintonoh.gov
SUMMARY:Council Meeting
DESCRIPTION:
URL:https://clintonoh.gov/event/council-meeting-9/
LOCATION:Clinton Village Hall\, 7871 Main St.\, Clinton\, OH\, 44216\, United States
END:VEVENT
BEGIN:VEVENT
DTSTART;TZID=America/New_York:20230801T180000
DTEND;TZID=America/New_York:20230801T180000
DTSTAMP:20260420T011743
CREATED:20230309T021455Z
LAST-MODIFIED:20230309T021455Z
UID:3077-1690912800-1690912800@clintonoh.gov
SUMMARY:Committee Meeting | Streets\, Sidewalks\, and Parks
DESCRIPTION:
URL:https://clintonoh.gov/event/committee-meeting-streets-sidewalks-and-parks-2/
LOCATION:Clinton Village Hall\, 7871 Main St.\, Clinton\, OH\, 44216\, United States
END:VEVENT
BEGIN:VEVENT
DTSTART;TZID=America/New_York:20230719T180000
DTEND;TZID=America/New_York:20230719T180000
DTSTAMP:20260420T011743
CREATED:20230309T022953Z
LAST-MODIFIED:20230309T022953Z
UID:3135-1689789600-1689789600@clintonoh.gov
SUMMARY:Zoning Board of Appeals
DESCRIPTION:
URL:https://clintonoh.gov/event/zoning-board-of-appeals-4/
LOCATION:Clinton Village Hall\, 7871 Main St.\, Clinton\, OH\, 44216\, United States
END:VEVENT
BEGIN:VEVENT
DTSTART;TZID=America/New_York:20230718T190000
DTEND;TZID=America/New_York:20230718T190000
DTSTAMP:20260420T011743
CREATED:20230309T022405Z
LAST-MODIFIED:20230309T022405Z
UID:3109-1689706800-1689706800@clintonoh.gov
SUMMARY:Council Meeting
DESCRIPTION:
URL:https://clintonoh.gov/event/council-meeting-8/
LOCATION:Clinton Village Hall\, 7871 Main St.\, Clinton\, OH\, 44216\, United States
END:VEVENT
BEGIN:VEVENT
DTSTART;TZID=America/New_York:20230718T180000
DTEND;TZID=America/New_York:20230718T180000
DTSTAMP:20260420T011743
CREATED:20230309T021422Z
LAST-MODIFIED:20230309T021422Z
UID:3075-1689703200-1689703200@clintonoh.gov
SUMMARY:Committee Meeting | Community Development
DESCRIPTION:
URL:https://clintonoh.gov/event/committee-meeting-community-development-2/
LOCATION:Clinton Village Hall\, 7871 Main St.\, Clinton\, OH\, 44216\, United States
END:VEVENT
BEGIN:VEVENT
DTSTART;TZID=America/New_York:20230621T180000
DTEND;TZID=America/New_York:20230621T180000
DTSTAMP:20260420T011743
CREATED:20230309T022931Z
LAST-MODIFIED:20230309T022931Z
UID:3133-1687370400-1687370400@clintonoh.gov
SUMMARY:Zoning Board of Appeals
DESCRIPTION:
URL:https://clintonoh.gov/event/zoning-board-of-appeals-3/
LOCATION:Clinton Village Hall\, 7871 Main St.\, Clinton\, OH\, 44216\, United States
END:VEVENT
BEGIN:VEVENT
DTSTART;TZID=America/New_York:20230620T190000
DTEND;TZID=America/New_York:20230620T190000
DTSTAMP:20260420T011743
CREATED:20230309T022341Z
LAST-MODIFIED:20230309T022341Z
UID:3107-1687287600-1687287600@clintonoh.gov
SUMMARY:Council Meeting
DESCRIPTION:
URL:https://clintonoh.gov/event/council-meeting-7/
LOCATION:Clinton Village Hall\, 7871 Main St.\, Clinton\, OH\, 44216\, United States
END:VEVENT
BEGIN:VEVENT
DTSTART;TZID=America/New_York:20230620T180000
DTEND;TZID=America/New_York:20230620T180000
DTSTAMP:20260420T011743
CREATED:20230309T021352Z
LAST-MODIFIED:20230309T021352Z
UID:3073-1687284000-1687284000@clintonoh.gov
SUMMARY:Committee Meeting | Public Utilities
DESCRIPTION:
URL:https://clintonoh.gov/event/committee-meeting-public-utilities-2/
LOCATION:Clinton Village Hall\, 7871 Main St.\, Clinton\, OH\, 44216\, United States
END:VEVENT
BEGIN:VEVENT
DTSTART;TZID=America/New_York:20230606T190000
DTEND;TZID=America/New_York:20230606T190000
DTSTAMP:20260420T011743
CREATED:20230309T022324Z
LAST-MODIFIED:20230309T022324Z
UID:3105-1686078000-1686078000@clintonoh.gov
SUMMARY:Council Meeting
DESCRIPTION:
URL:https://clintonoh.gov/event/council-meeting-6/
LOCATION:Clinton Village Hall\, 7871 Main St.\, Clinton\, OH\, 44216\, United States
END:VEVENT
BEGIN:VEVENT
DTSTART;TZID=America/New_York:20230606T180000
DTEND;TZID=America/New_York:20230606T180000
DTSTAMP:20260420T011743
CREATED:20230309T021324Z
LAST-MODIFIED:20230309T021324Z
UID:3071-1686074400-1686074400@clintonoh.gov
SUMMARY:Committee Meeting | Planning
DESCRIPTION:
URL:https://clintonoh.gov/event/committee-meeting-planning/
LOCATION:Clinton Village Hall\, 7871 Main St.\, Clinton\, OH\, 44216\, United States
END:VEVENT
BEGIN:VEVENT
DTSTART;TZID=America/New_York:20230517T180000
DTEND;TZID=America/New_York:20230517T180000
DTSTAMP:20260420T011743
CREATED:20230309T022913Z
LAST-MODIFIED:20230309T022913Z
UID:3131-1684346400-1684346400@clintonoh.gov
SUMMARY:Zoning Board of Appeals
DESCRIPTION:
URL:https://clintonoh.gov/event/zoning-board-of-appeals-2/
LOCATION:Clinton Village Hall\, 7871 Main St.\, Clinton\, OH\, 44216\, United States
END:VEVENT
BEGIN:VEVENT
DTSTART;TZID=America/New_York:20230516T190000
DTEND;TZID=America/New_York:20230516T190000
DTSTAMP:20260420T011743
CREATED:20230309T022252Z
LAST-MODIFIED:20230309T022252Z
UID:3103-1684263600-1684263600@clintonoh.gov
SUMMARY:Council Meeting
DESCRIPTION:
URL:https://clintonoh.gov/event/council-meeting-5/
LOCATION:Clinton Village Hall\, 7871 Main St.\, Clinton\, OH\, 44216\, United States
END:VEVENT
BEGIN:VEVENT
DTSTART;TZID=America/New_York:20230516T180000
DTEND;TZID=America/New_York:20230516T180000
DTSTAMP:20260420T011743
CREATED:20230309T021256Z
LAST-MODIFIED:20230309T021256Z
UID:3069-1684260000-1684260000@clintonoh.gov
SUMMARY:Committee Meeting | Safety
DESCRIPTION:
URL:https://clintonoh.gov/event/committee-meeting-safety/
LOCATION:Clinton Village Hall\, 7871 Main St.\, Clinton\, OH\, 44216\, United States
END:VEVENT
BEGIN:VEVENT
DTSTART;TZID=America/New_York:20230502T190000
DTEND;TZID=America/New_York:20230502T190000
DTSTAMP:20260420T011743
CREATED:20230309T022231Z
LAST-MODIFIED:20230309T022231Z
UID:3101-1683054000-1683054000@clintonoh.gov
SUMMARY:Council Meeting
DESCRIPTION:
URL:https://clintonoh.gov/event/council-meeting-4/
LOCATION:Clinton Village Hall\, 7871 Main St.\, Clinton\, OH\, 44216\, United States
END:VEVENT
BEGIN:VEVENT
DTSTART;TZID=America/New_York:20230502T180000
DTEND;TZID=America/New_York:20230502T180000
DTSTAMP:20260420T011743
CREATED:20230309T021011Z
LAST-MODIFIED:20230309T021204Z
UID:3067-1683050400-1683050400@clintonoh.gov
SUMMARY:Committee Meeting | Laws\, Ordinances\, and Human Resources
DESCRIPTION:
URL:https://clintonoh.gov/event/committee-meeting-laws-ordinances-and-human-resources/
LOCATION:Clinton Village Hall\, 7871 Main St.\, Clinton\, OH\, 44216\, United States
END:VEVENT
BEGIN:VEVENT
DTSTART;TZID=America/New_York:20230419T180000
DTEND;TZID=America/New_York:20230419T180000
DTSTAMP:20260420T011743
CREATED:20230309T022859Z
LAST-MODIFIED:20230309T022859Z
UID:3129-1681927200-1681927200@clintonoh.gov
SUMMARY:Zoning Board of Appeals
DESCRIPTION:
URL:https://clintonoh.gov/event/zoning-board-of-appeals/
LOCATION:Clinton Village Hall\, 7871 Main St.\, Clinton\, OH\, 44216\, United States
END:VEVENT
BEGIN:VEVENT
DTSTART;TZID=America/New_York:20230418T190000
DTEND;TZID=America/New_York:20230418T190000
DTSTAMP:20260420T011743
CREATED:20230309T022210Z
LAST-MODIFIED:20230309T022210Z
UID:3099-1681844400-1681844400@clintonoh.gov
SUMMARY:Council Meeting
DESCRIPTION:
URL:https://clintonoh.gov/event/council-meeting-3/
LOCATION:Clinton Village Hall\, 7871 Main St.\, Clinton\, OH\, 44216\, United States
END:VEVENT
BEGIN:VEVENT
DTSTART;TZID=America/New_York:20230418T180000
DTEND;TZID=America/New_York:20230418T180000
DTSTAMP:20260420T011743
CREATED:20230309T020948Z
LAST-MODIFIED:20230309T020948Z
UID:3065-1681840800-1681840800@clintonoh.gov
SUMMARY:Committee Meeting | Community Development
DESCRIPTION:
URL:https://clintonoh.gov/event/committee-meeting-community-development/
LOCATION:Clinton Village Hall\, 7871 Main St.\, Clinton\, OH\, 44216\, United States
END:VEVENT
BEGIN:VEVENT
DTSTART;TZID=America/New_York:20230404T190000
DTEND;TZID=America/New_York:20230404T190000
DTSTAMP:20260420T011743
CREATED:20230309T022148Z
LAST-MODIFIED:20230309T022148Z
UID:3097-1680634800-1680634800@clintonoh.gov
SUMMARY:Council Meeting
DESCRIPTION:
URL:https://clintonoh.gov/event/council-meeting-2/
LOCATION:Clinton Village Hall\, 7871 Main St.\, Clinton\, OH\, 44216\, United States
END:VEVENT
BEGIN:VEVENT
DTSTART;TZID=America/New_York:20230404T180000
DTEND;TZID=America/New_York:20230404T180000
DTSTAMP:20260420T011743
CREATED:20230309T020859Z
LAST-MODIFIED:20230309T020859Z
UID:3063-1680631200-1680631200@clintonoh.gov
SUMMARY:Committee Meeting | Streets\, Sidewalks\, and Parks
DESCRIPTION:
URL:https://clintonoh.gov/event/committee-meeting-streets-sidewalks-and-parks/
LOCATION:Clinton Village Hall\, 7871 Main St.\, Clinton\, OH\, 44216\, United States
END:VEVENT
BEGIN:VEVENT
DTSTART;TZID=America/New_York:20230321T190000
DTEND;TZID=America/New_York:20230321T190000
DTSTAMP:20260420T011743
CREATED:20230309T022044Z
LAST-MODIFIED:20230309T022044Z
UID:3095-1679425200-1679425200@clintonoh.gov
SUMMARY:Council Meeting
DESCRIPTION:
URL:https://clintonoh.gov/event/council-meeting/
LOCATION:Clinton Village Hall\, 7871 Main St.\, Clinton\, OH\, 44216\, United States
END:VEVENT
BEGIN:VEVENT
DTSTART;TZID=America/New_York:20230321T180000
DTEND;TZID=America/New_York:20230321T180000
DTSTAMP:20260420T011743
CREATED:20230309T020754Z
LAST-MODIFIED:20230309T020754Z
UID:3061-1679421600-1679421600@clintonoh.gov
SUMMARY:Committee Meeting | Public Utilities
DESCRIPTION:
URL:https://clintonoh.gov/event/committee-meeting-public-utilities/
LOCATION:Clinton Village Hall\, 7871 Main St.\, Clinton\, OH\, 44216\, United States
END:VEVENT
END:VCALENDAR